BEGIN:VCALENDAR
VERSION:2.0
PRODID:SchoolNow
CALSCALE:GREGORIAN
BEGIN:VEVENT
UID:75e7dccc-37df-11ef-a351-0a58a9feac02
DTSTAMP:20240701T192356Z
SUMMARY:Trimester III Begins
URL;VALUE=URI:https://www.arbor145.org/calendar/6194249/trimester-iii-begin
 s
DTSTART;VALUE=DATE:20250304
DTEND;VALUE=DATE:20250305
END:VEVENT
END:VCALENDAR
