BEGIN:VCALENDAR
VERSION:2.0
PRODID:SchoolNow
CALSCALE:GREGORIAN
BEGIN:VEVENT
UID:8dd63d7e-37df-11ef-a143-0a58a9feac02
DTSTAMP:20240701T192436Z
SUMMARY:BBB Tournament @ Finley
URL;VALUE=URI:https://www.arbor145.org/calendar/6194250/bbb-tournament-finl
 ey
DTSTART;VALUE=DATE:20250304
DTEND;VALUE=DATE:20250305
END:VEVENT
END:VCALENDAR
