BEGIN:VCALENDAR
VERSION:2.0
PRODID:SchoolNow
CALSCALE:GREGORIAN
BEGIN:VEVENT
UID:a1024c94-37df-11ef-b5f6-0affe900a1ff
DTSTAMP:20240701T192509Z
SUMMARY:Trimester II Grades Due
URL;VALUE=URI:https://www.arbor145.org/calendar/6194251/trimester-ii-grades
 -due
DTSTART;VALUE=DATE:20250305
DTEND;VALUE=DATE:20250306
END:VEVENT
END:VCALENDAR
