BEGIN:VCALENDAR
VERSION:2.0
PRODID:SchoolNow
CALSCALE:GREGORIAN
BEGIN:VEVENT
UID:b28077f2-37df-11ef-9c3e-0e3f006457b7
DTSTAMP:20240701T193544Z
SUMMARY:Band Festival @ Arbor Park Middle School
URL;VALUE=URI:https://www.arbor145.org/calendar/6194252/bans-fstival-arbor-
 park-middle-school
DTSTART;VALUE=DATE:20250305
DTEND;VALUE=DATE:20250306
END:VEVENT
END:VCALENDAR
