BEGIN:VCALENDAR
VERSION:2.0
PRODID:SchoolNow
CALSCALE:GREGORIAN
BEGIN:VEVENT
UID:d1c6f83e-37df-11ef-933c-0affd1b2c97d
DTSTAMP:20240701T192630Z
SUMMARY:BBB Tournament Championship @ Finley
URL;VALUE=URI:https://www.arbor145.org/calendar/6194253/bbb-tournament-cham
 pionship-finley
DTSTART;VALUE=DATE:20250306
DTEND;VALUE=DATE:20250307
END:VEVENT
END:VCALENDAR
