BEGIN:VCALENDAR
VERSION:2.0
PRODID:SchoolNow
CALSCALE:GREGORIAN
BEGIN:VEVENT
UID:ebdf90d2-37df-11ef-a90c-021d6ea3ecb1
DTSTAMP:20240701T192714Z
SUMMARY:Trimester II Report Cards Available in ALMA
URL;VALUE=URI:https://www.arbor145.org/calendar/6194254/trimester-ii-report
 -cards-available-in-alma
DTSTART;VALUE=DATE:20250307
DTEND;VALUE=DATE:20250308
END:VEVENT
END:VCALENDAR
