BEGIN:VCALENDAR
VERSION:2.0
PRODID:SchoolNow
CALSCALE:GREGORIAN
BEGIN:VEVENT
UID:050d6c78-37e0-11ef-8fcf-0affddf12909
DTSTAMP:20240701T192756Z
SUMMARY:Declamation Event @ Richards H.S.
URL;VALUE=URI:https://www.arbor145.org/calendar/6194255/declamation-event-r
 ichards-h-s
DTSTART;VALUE=DATE:20250308
DTEND;VALUE=DATE:20250309
END:VEVENT
END:VCALENDAR
