BEGIN:VCALENDAR
VERSION:2.0
PRODID:SchoolNow
CALSCALE:GREGORIAN
BEGIN:VEVENT
UID:1be7c34e-37e0-11ef-b8a4-0affd0d50bef
DTSTAMP:20240701T192835Z
SUMMARY:Boy's All Star Basketball Game @ Arbor Park
URL;VALUE=URI:https://www.arbor145.org/calendar/6194256/boys-all-star-baske
 tball-game-arbor-park
DTSTART;VALUE=DATE:20250311
DTEND;VALUE=DATE:20250312
END:VEVENT
END:VCALENDAR
