BEGIN:VCALENDAR
VERSION:2.0
PRODID:SchoolNow
CALSCALE:GREGORIAN
BEGIN:VEVENT
UID:35ea6774-37e0-11ef-bde2-02bafbb4e5ab
DTSTAMP:20240701T192918Z
SUMMARY:Spring Break
URL;VALUE=URI:https://www.arbor145.org/calendar/6194257/spring-break
DTSTART;VALUE=DATE:20250324
DTEND;VALUE=DATE:20250329
END:VEVENT
END:VCALENDAR
