BEGIN:VCALENDAR
VERSION:2.0
PRODID:SchoolNow
CALSCALE:GREGORIAN
BEGIN:VEVENT
UID:43c5a890-37e0-11ef-bd9e-0a58a9feac02
DTSTAMP:20240701T192942Z
SUMMARY:School Resumes
URL;VALUE=URI:https://www.arbor145.org/calendar/6194258/school-resumes
DTSTART;VALUE=DATE:20250331
DTEND;VALUE=DATE:20250401
END:VEVENT
END:VCALENDAR
