BEGIN:VCALENDAR
VERSION:2.0
PRODID:SchoolNow
CALSCALE:GREGORIAN
BEGIN:VEVENT
UID:65c06a2a-37e0-11ef-9e94-0a58a9feac02
DTSTAMP:20250402T203439Z
SUMMARY:APMS Spring Pictures: 5th - 7th Grade
URL;VALUE=URI:https://www.arbor145.org/calendar/6194259/apms-spring-picture
 s-5th-7th-grade
DTSTART;VALUE=DATE:20250424
DTEND;VALUE=DATE:20250425
END:VEVENT
END:VCALENDAR
