BEGIN:VCALENDAR
VERSION:2.0
PRODID:SchoolNow
CALSCALE:GREGORIAN
BEGIN:VEVENT
UID:8417513c-37e0-11ef-a1d1-0a58a9feac02
DTSTAMP:20240701T193130Z
SUMMARY:Soccer Games
URL;VALUE=URI:https://www.arbor145.org/calendar/6194260/soccer-games
DTSTART;VALUE=DATE:20250407
DTEND;VALUE=DATE:20250412
END:VEVENT
END:VCALENDAR
