BEGIN:VCALENDAR
VERSION:2.0
PRODID:SchoolNow
CALSCALE:GREGORIAN
BEGIN:VEVENT
UID:9c82e7e0-37e0-11ef-a7af-0a58a9feac02
DTSTAMP:20240701T193210Z
SUMMARY:Mid Trimester III Grades Due
URL;VALUE=URI:https://www.arbor145.org/calendar/6194261/mid-trimester-iii-g
 rades-due
DTSTART;VALUE=DATE:20250415
DTEND;VALUE=DATE:20250416
END:VEVENT
END:VCALENDAR
