BEGIN:VCALENDAR
VERSION:2.0
PRODID:SchoolNow
CALSCALE:GREGORIAN
BEGIN:VEVENT
UID:ad15cbc2-37e0-11ef-85d0-0a58a9feac02
DTSTAMP:20240701T193238Z
SUMMARY:Math Contest @ Independence
URL;VALUE=URI:https://www.arbor145.org/calendar/6194262/math-contest-indepe
 ndence
DTSTART;VALUE=DATE:20250415
DTEND;VALUE=DATE:20250416
END:VEVENT
END:VCALENDAR
