BEGIN:VCALENDAR
VERSION:2.0
PRODID:SchoolNow
CALSCALE:GREGORIAN
BEGIN:VEVENT
UID:c2937a6c-37e0-11ef-8655-0e3f006457b7
DTSTAMP:20240701T193314Z
SUMMARY:Mid Trimester III Progress Reports Available in ALMA
URL;VALUE=URI:https://www.arbor145.org/calendar/6194263/mid-trimester-iii-p
 rogress-reports-available-in-alma
DTSTART;VALUE=DATE:20250417
DTEND;VALUE=DATE:20250418
END:VEVENT
END:VCALENDAR
