BEGIN:VCALENDAR
VERSION:2.0
PRODID:SchoolNow
CALSCALE:GREGORIAN
BEGIN:VEVENT
UID:d66661b2-37e0-11ef-b4a0-0affe900a1ff
DTSTAMP:20240701T193348Z
SUMMARY:Not in Session - School Closed
URL;VALUE=URI:https://www.arbor145.org/calendar/6194264/not-in-session-scho
 ol-closed
DTSTART;VALUE=DATE:20250418
DTEND;VALUE=DATE:20250419
END:VEVENT
END:VCALENDAR
