BEGIN:VCALENDAR
VERSION:2.0
PRODID:SchoolNow
CALSCALE:GREGORIAN
BEGIN:VEVENT
UID:e24a74f0-37e0-11ef-80b3-0affd0d50bef
DTSTAMP:20240701T193408Z
SUMMARY:Not in Session - School Closed
URL;VALUE=URI:https://www.arbor145.org/calendar/6194265/not-in-session-scho
 ol-closed
DTSTART;VALUE=DATE:20250421
DTEND;VALUE=DATE:20250422
END:VEVENT
END:VCALENDAR
