BEGIN:VCALENDAR
VERSION:2.0
PRODID:SchoolNow
CALSCALE:GREGORIAN
BEGIN:VEVENT
UID:f3cac3e2-37e0-11ef-8ee4-0a58a9feac02
DTSTAMP:20240701T193437Z
SUMMARY:Scholastic Bowl @ Central Park
URL;VALUE=URI:https://www.arbor145.org/calendar/6194266/scholastic-bowl-cen
 tral-park
DTSTART;VALUE=DATE:20250426
DTEND;VALUE=DATE:20250427
END:VEVENT
END:VCALENDAR
