BEGIN:VCALENDAR
VERSION:2.0
PRODID:SchoolNow
CALSCALE:GREGORIAN
BEGIN:VEVENT
UID:0c4e2daa-37e1-11ef-8b13-0a58a9feac02
DTSTAMP:20240701T193603Z
SUMMARY:Staff Appreciation Week
URL;VALUE=URI:https://www.arbor145.org/calendar/6194267/staff-appreciation-
 week
DTSTART;VALUE=DATE:20250505
DTEND;VALUE=DATE:20250510
END:VEVENT
END:VCALENDAR
