BEGIN:VCALENDAR
VERSION:2.0
PRODID:SchoolNow
CALSCALE:GREGORIAN
BEGIN:VEVENT
UID:4ce694e2-37e1-11ef-a423-0a58a9feac02
DTSTAMP:20240701T193706Z
SUMMARY:Track Championship @ Shephard H.S.
URL;VALUE=URI:https://www.arbor145.org/calendar/6194268/track-championship-
 shephard-h-s
DTSTART;VALUE=DATE:20250514
DTEND;VALUE=DATE:20250515
END:VEVENT
END:VCALENDAR
