BEGIN:VCALENDAR
VERSION:2.0
PRODID:SchoolNow
CALSCALE:GREGORIAN
BEGIN:VEVENT
UID:6e27ac9a-37e1-11ef-a638-0a58a9feac02
DTSTAMP:20240701T193802Z
SUMMARY:Track Rain Date @ Shephard H.S.
URL;VALUE=URI:https://www.arbor145.org/calendar/6194269/track-rain-date-she
 phard-h-s
DTSTART;VALUE=DATE:20250515
DTEND;VALUE=DATE:20250516
END:VEVENT
END:VCALENDAR
