BEGIN:VCALENDAR
VERSION:2.0
PRODID:SchoolNow
CALSCALE:GREGORIAN
BEGIN:VEVENT
UID:80dcaa3e-37e1-11ef-8f3c-0affd1b2c97d
DTSTAMP:20240701T193834Z
SUMMARY:Memorial Day - School Closed
URL;VALUE=URI:https://www.arbor145.org/calendar/6194270/memorial-day-school
 -closed
DTSTART;VALUE=DATE:20250526
DTEND;VALUE=DATE:20250527
END:VEVENT
END:VCALENDAR
