BEGIN:VCALENDAR
VERSION:2.0
PRODID:SchoolNow
CALSCALE:GREGORIAN
BEGIN:VEVENT
UID:91a2112e-37e1-11ef-a169-0a58a9feac02
DTSTAMP:20250527T151316Z
SUMMARY:8th Grade Graduation Ceremony
URL;VALUE=URI:https://www.arbor145.org/calendar/6194271/8th-grade-graduatio
 n-ceremony
DTSTART:20250529T230000Z
DTEND:20250530T003000Z
END:VEVENT
END:VCALENDAR
