BEGIN:VCALENDAR
VERSION:2.0
PRODID:SchoolNow
CALSCALE:GREGORIAN
BEGIN:VEVENT
UID:9f76982e-37e1-11ef-af9d-02bafbb4e5ab
DTSTAMP:20240701T193925Z
SUMMARY:Trimester III Grades Due
URL;VALUE=URI:https://www.arbor145.org/calendar/6194272/trimester-iii-grade
 s-due
DTSTART;VALUE=DATE:20250530
DTEND;VALUE=DATE:20250531
END:VEVENT
END:VCALENDAR
