BEGIN:VCALENDAR
VERSION:2.0
PRODID:SchoolNow
CALSCALE:GREGORIAN
BEGIN:VEVENT
UID:b462843c-37e1-11ef-8fd4-0a58a9feac02
DTSTAMP:20250522T210136Z
SUMMARY:Last Day of School
URL;VALUE=URI:https://www.arbor145.org/calendar/6194273/last-day-of-school
DTSTART;VALUE=DATE:20250605
DTEND;VALUE=DATE:20250606
END:VEVENT
END:VCALENDAR
