BEGIN:VCALENDAR
VERSION:2.0
PRODID:SchoolNow
CALSCALE:GREGORIAN
BEGIN:VEVENT
UID:d16c4c34-37e1-11ef-b2f9-0efec49c6b19
DTSTAMP:20250522T205853Z
SUMMARY:KHS Early Dismissal - 11:30am
URL;VALUE=URI:https://www.arbor145.org/calendar/6194274/khs-early-dismissal
 -12-00pm
DTSTART;VALUE=DATE:20250605
DTEND;VALUE=DATE:20250606
END:VEVENT
END:VCALENDAR
