BEGIN:VCALENDAR
VERSION:2.0
PRODID:SchoolNow
CALSCALE:GREGORIAN
BEGIN:VEVENT
UID:0ed4420c-37e2-11ef-89e7-0a58a9feac02
DTSTAMP:20250522T210026Z
SUMMARY:APMS Dismissal - 11:00am
URL;VALUE=URI:https://www.arbor145.org/calendar/6194275/apms-dismissal-11-0
 0am
DTSTART;VALUE=DATE:20250605
DTEND;VALUE=DATE:20250606
END:VEVENT
END:VCALENDAR
