BEGIN:VCALENDAR
VERSION:2.0
PRODID:SchoolNow
CALSCALE:GREGORIAN
BEGIN:VEVENT
UID:22612812-37e2-11ef-b080-0efded0f69c3
DTSTAMP:20250522T210036Z
SUMMARY:SOS Dismissal - 12:00pm
URL;VALUE=URI:https://www.arbor145.org/calendar/6194276/sos-dismissal-12-00
 pm
DTSTART;VALUE=DATE:20250605
DTEND;VALUE=DATE:20250606
END:VEVENT
END:VCALENDAR
