BEGIN:VCALENDAR
VERSION:2.0
PRODID:SchoolNow
CALSCALE:GREGORIAN
BEGIN:VEVENT
UID:367e464a-37e2-11ef-b634-0a58a9feac02
DTSTAMP:20250522T210015Z
SUMMARY:AES Dismissal - 12:30pm
URL;VALUE=URI:https://www.arbor145.org/calendar/6194277/aes-dismissal-12-30
 pm
DTSTART;VALUE=DATE:20250605
DTEND;VALUE=DATE:20250606
END:VEVENT
END:VCALENDAR
