BEGIN:VCALENDAR
VERSION:2.0
PRODID:SchoolNow
CALSCALE:GREGORIAN
BEGIN:VEVENT
UID:436e4ce2-37e2-11ef-87d4-0affe900a1ff
DTSTAMP:20250522T210107Z
SUMMARY:Trimester III Ends
URL;VALUE=URI:https://www.arbor145.org/calendar/6194278/trimester-iii-ends
DTSTART;VALUE=DATE:20250605
DTEND;VALUE=DATE:20250606
END:VEVENT
END:VCALENDAR
