BEGIN:VCALENDAR
VERSION:2.0
PRODID:SchoolNow
CALSCALE:GREGORIAN
BEGIN:VEVENT
UID:555544ec-37e2-11ef-9f8b-0a58a9feac02
DTSTAMP:20250522T210117Z
SUMMARY:Trimester III Report Cards Available in ALMA
URL;VALUE=URI:https://www.arbor145.org/calendar/6194279/trimester-iii-repor
 t-cards-available-in-alma
DTSTART;VALUE=DATE:20250605
DTEND;VALUE=DATE:20250606
END:VEVENT
END:VCALENDAR
