BEGIN:VCALENDAR
VERSION:2.0
PRODID:SchoolNow
CALSCALE:GREGORIAN
BEGIN:VEVENT
UID:66b26788-37e2-11ef-a401-0a58a9feac02
DTSTAMP:20250522T205657Z
SUMMARY:Emergency Days
URL;VALUE=URI:https://www.arbor145.org/calendar/6194280/emergency-days
DTSTART;VALUE=DATE:20250606
DTEND;VALUE=DATE:20250607
END:VEVENT
END:VCALENDAR
