BEGIN:VCALENDAR
VERSION:2.0
PRODID:SchoolNow
CALSCALE:GREGORIAN
BEGIN:VEVENT
UID:ddc11c96-37e4-11ef-ab80-0a58a9feac02
DTSTAMP:20240701T200238Z
SUMMARY:Juneteenth - APSD145 Closed
URL;VALUE=URI:https://www.arbor145.org/calendar/6194282/juneteenth-apsd145-
 closed
DTSTART;VALUE=DATE:20250619
DTEND;VALUE=DATE:20250620
END:VEVENT
END:VCALENDAR
