BEGIN:VCALENDAR
VERSION:2.0
PRODID:SchoolNow
CALSCALE:GREGORIAN
BEGIN:VEVENT
UID:c61446e2-48f4-11ef-a0b3-0afffc8563fb
DTSTAMP:20240723T130920Z
SUMMARY:Emergency Days
URL;VALUE=URI:https://www.arbor145.org/calendar/6298821/emergency-days
DTSTART;VALUE=DATE:20250609
DTEND;VALUE=DATE:20250612
END:VEVENT
END:VCALENDAR
