BEGIN:VCALENDAR
VERSION:2.0
PRODID:SchoolNow
CALSCALE:GREGORIAN
BEGIN:VEVENT
UID:88ceca9a-48ff-11ef-9701-0a58a9feac02
DTSTAMP:20240723T142701Z
SUMMARY:APMS Volleyball Arbor @ Hille
URL;VALUE=URI:https://www.arbor145.org/calendar/6298822/apms-volleyball-hil
 le
DTSTART;VALUE=DATE:20240827
DTEND;VALUE=DATE:20240828
END:VEVENT
END:VCALENDAR
