BEGIN:VCALENDAR
VERSION:2.0
PRODID:SchoolNow
CALSCALE:GREGORIAN
BEGIN:VEVENT
UID:1f22b80a-5330-11ef-b2bb-0a58a9feac02
DTSTAMP:20240805T133921Z
SUMMARY:SOS Pick Up/Drop Off Night
LOCATION:Scarlet Oak School
URL;VALUE=URI:https://www.arbor145.org/calendar/6356517/sos-pick-up-drop-of
 f-night
DTSTART:20240814T210000Z
DTEND:20240814T223000Z
END:VEVENT
END:VCALENDAR
