BEGIN:VCALENDAR
VERSION:2.0
PRODID:SchoolNow
CALSCALE:GREGORIAN
BEGIN:VEVENT
UID:38c91138-6171-11ef-94c5-0affef06be4d
DTSTAMP:20240823T170233Z
SUMMARY:PTO Meeting
URL;VALUE=URI:https://www.arbor145.org/calendar/6449075/pto-meeting-in-apms
 -media-center
DTSTART:20240910T001500Z
DTEND:20240910T011500Z
END:VEVENT
END:VCALENDAR
