BEGIN:VCALENDAR
VERSION:2.0
PRODID:SchoolNow
CALSCALE:GREGORIAN
BEGIN:VEVENT
UID:ba5d6000-6171-11ef-8860-0a58a9feac02
DTSTAMP:20240823T170415Z
SUMMARY:PTO Meeting
URL;VALUE=URI:https://www.arbor145.org/calendar/6449077/pto-meeting-in-apms
 -media-center-clone
DTSTART:20241018T001500Z
DTEND:20241018T011500Z
END:VEVENT
END:VCALENDAR
