BEGIN:VCALENDAR
VERSION:2.0
PRODID:SchoolNow
CALSCALE:GREGORIAN
BEGIN:VEVENT
UID:c7143512-6171-11ef-9ef9-0affcc96cba9
DTSTAMP:20240823T170437Z
SUMMARY:PTO Meeting
URL;VALUE=URI:https://www.arbor145.org/calendar/6449078/pto-meeting-in-apms
 -media-center-clone-clone
DTSTART:20241119T011500Z
DTEND:20241119T021500Z
END:VEVENT
END:VCALENDAR
