BEGIN:VCALENDAR
VERSION:2.0
PRODID:SchoolNow
CALSCALE:GREGORIAN
BEGIN:VEVENT
UID:cf5689b4-6171-11ef-adff-023214b9f5b1
DTSTAMP:20240823T170450Z
SUMMARY:PTO Meeting
URL;VALUE=URI:https://www.arbor145.org/calendar/6449079/pto-meeting-in-apms
 -media-center-clone-clone-clone
DTSTART:20241218T011500Z
DTEND:20241218T021500Z
END:VEVENT
END:VCALENDAR
