BEGIN:VCALENDAR
VERSION:2.0
PRODID:SchoolNow
CALSCALE:GREGORIAN
BEGIN:VEVENT
UID:da72d08c-6171-11ef-98a5-0a58a9feac02
DTSTAMP:20240823T170509Z
SUMMARY:PTO Meeting
URL;VALUE=URI:https://www.arbor145.org/calendar/6449080/pto-meeting-in-apms
 -media-center-clone-clone-clone-clone
DTSTART:20250117T011500Z
DTEND:20250117T021500Z
END:VEVENT
END:VCALENDAR
