BEGIN:VCALENDAR
VERSION:2.0
PRODID:SchoolNow
CALSCALE:GREGORIAN
BEGIN:VEVENT
UID:ec7503d6-6171-11ef-aced-0ec11a132183
DTSTAMP:20240823T170539Z
SUMMARY:PTO Meeting
URL;VALUE=URI:https://www.arbor145.org/calendar/6449082/pto-meeting-in-apms
 -media-center-clone-clone-clone-clone-clone
DTSTART:20250204T011500Z
DTEND:20250204T021500Z
END:VEVENT
END:VCALENDAR
