BEGIN:VCALENDAR
VERSION:2.0
PRODID:SchoolNow
CALSCALE:GREGORIAN
BEGIN:VEVENT
UID:d5dc4928-617a-11ef-886e-0ec9eb09a8e7
DTSTAMP:20240823T180927Z
SUMMARY:PTO Meeting
URL;VALUE=URI:https://www.arbor145.org/calendar/6449139/pto-meeting-in-apms
 -media-center-clone-clone-clone-clone-clone-clone
DTSTART:20250321T001500Z
DTEND:20250321T011500Z
END:VEVENT
END:VCALENDAR
