BEGIN:VCALENDAR
VERSION:2.0
PRODID:SchoolNow
CALSCALE:GREGORIAN
BEGIN:VEVENT
UID:df5cb55a-617a-11ef-9cbe-0a58a9feac02
DTSTAMP:20240823T180943Z
SUMMARY:PTO Meeting
URL;VALUE=URI:https://www.arbor145.org/calendar/6449140/pto-meeting-in-apms
 -media-center-clone-clone-clone-clone-clone-clone-clone
DTSTART:20250425T001500Z
DTEND:20250425T011500Z
END:VEVENT
END:VCALENDAR
