BEGIN:VCALENDAR
VERSION:2.0
PRODID:SchoolNow
CALSCALE:GREGORIAN
BEGIN:VEVENT
UID:eb1c5422-617a-11ef-82a7-0e2183b15417
DTSTAMP:20240823T181003Z
SUMMARY:PTO Meeting
URL;VALUE=URI:https://www.arbor145.org/calendar/6449141/pto-meeting-in-apms
 -media-center-clone-clone-clone-clone-clone-clone-clone-clone
DTSTART:20250516T001500Z
DTEND:20250516T011500Z
END:VEVENT
END:VCALENDAR
