BEGIN:VCALENDAR
VERSION:2.0
PRODID:SchoolNow
CALSCALE:GREGORIAN
BEGIN:VEVENT
UID:3db0a35a-9c54-11ef-8ace-0a58a9feac02
DTSTAMP:20241106T153149Z
SUMMARY:Board of Education Meeting
URL;VALUE=URI:https://www.arbor145.org/calendar/6969828/board-of-education-
 meeting
DTSTART:20240822T000000Z
DTEND:20240822T010000Z
END:VEVENT
END:VCALENDAR
