BEGIN:VCALENDAR
VERSION:2.0
PRODID:SchoolNow
CALSCALE:GREGORIAN
BEGIN:VEVENT
UID:89707d10-9c54-11ef-ad64-0a58a9feac02
DTSTAMP:20241106T153356Z
SUMMARY:Board of Education Meeting
URL;VALUE=URI:https://www.arbor145.org/calendar/6969829/board-of-education-
 meeting
DTSTART:20240926T000000Z
DTEND:20240926T010000Z
END:VEVENT
END:VCALENDAR
