BEGIN:VCALENDAR
VERSION:2.0
PRODID:SchoolNow
CALSCALE:GREGORIAN
BEGIN:VEVENT
UID:47b1a0ba-9c55-11ef-8906-0e451eb02111
DTSTAMP:20241106T153916Z
SUMMARY:Board of Education Meeting
URL;VALUE=URI:https://www.arbor145.org/calendar/6969831/board-of-education-
 meeting
DTSTART:20241107T010000Z
DTEND:20241107T020000Z
END:VEVENT
END:VCALENDAR
