BEGIN:VCALENDAR
VERSION:2.0
PRODID:SchoolNow
CALSCALE:GREGORIAN
BEGIN:VEVENT
UID:751b6086-9c55-11ef-9da0-0affd5c2892b
DTSTAMP:20241106T154032Z
SUMMARY:Board of Education Meeting
URL;VALUE=URI:https://www.arbor145.org/calendar/6969833/board-of-education-
 meeting
DTSTART:20241212T010000Z
DTEND:20241212T020000Z
END:VEVENT
END:VCALENDAR
