BEGIN:VCALENDAR
VERSION:2.0
PRODID:SchoolNow
CALSCALE:GREGORIAN
BEGIN:VEVENT
UID:84d26e66-9c55-11ef-8837-0a58a9feac02
DTSTAMP:20241106T154058Z
SUMMARY:Board of Education Meeting
URL;VALUE=URI:https://www.arbor145.org/calendar/6969834/board-of-education-
 meeting
DTSTART:20250130T010000Z
DTEND:20250130T020000Z
END:VEVENT
END:VCALENDAR
